BEGIN:VCALENDAR
VERSION:2.0
PRODID:www.bfh.ch
X-APPLE-CALENDAR-COLOR:Orange
X-OUTLOOK-COLOR:Orange
X-FUNAMBOL-COLOR:Orange
X-WR-CALNAME:Übersicht e_jkm1
BEGIN:VEVENT
UID:69eb95bc78151
DTSTART:20260309T121500Z
SEQUENCE:0
TRANSP:OPAQUE
DTEND:20260309T140000Z
LOCATION:Sw48-002
SUMMARY:Bsc pfl 25 vz\, Perioperative Pflege\, VL: Darmoperationen
CLASS:PUBLIC
DESCRIPTION:Veranstaltung: Bsc pfl 25 vz\, Perioperative Pflege\, VL: Darmo
 perationen\nDozierende: Jakob [e_jkm1]\nRäume: Sw48-002\nCode: BGN5221\nK
 ommentar: VL: Darmoperationen
X-ALT-DESC;FMTTYPE=text/html:Veranstaltung: Bsc pfl 25 vz\, Perioperative P
 flege\, VL: Darmoperationen<br>Dozierende: Jakob [e_jkm1]<br>Räume: Sw48-
 002<br>Code: BGN5221<br>Kommentar: VL: Darmoperationen
DTSTAMP:20260424T160932Z
END:VEVENT
END:VCALENDAR